BEGIN:VCALENDAR
VERSION:2.0
PRODID:-//House Of Wine - ECPv6.15.20//NONSGML v1.0//EN
CALSCALE:GREGORIAN
METHOD:PUBLISH
X-WR-CALNAME:House Of Wine
X-ORIGINAL-URL:https://houseofwineco.com
X-WR-CALDESC:Events for House Of Wine
REFRESH-INTERVAL;VALUE=DURATION:PT1H
X-Robots-Tag:noindex
X-PUBLISHED-TTL:PT1H
BEGIN:VTIMEZONE
TZID:America/Boise
BEGIN:DAYLIGHT
TZOFFSETFROM:-0700
TZOFFSETTO:-0600
TZNAME:MDT
DTSTART:20250309T090000
END:DAYLIGHT
BEGIN:STANDARD
TZOFFSETFROM:-0600
TZOFFSETTO:-0700
TZNAME:MST
DTSTART:20251102T080000
END:STANDARD
BEGIN:DAYLIGHT
TZOFFSETFROM:-0700
TZOFFSETTO:-0600
TZNAME:MDT
DTSTART:20260308T090000
END:DAYLIGHT
BEGIN:STANDARD
TZOFFSETFROM:-0600
TZOFFSETTO:-0700
TZNAME:MST
DTSTART:20261101T080000
END:STANDARD
BEGIN:DAYLIGHT
TZOFFSETFROM:-0700
TZOFFSETTO:-0600
TZNAME:MDT
DTSTART:20270314T090000
END:DAYLIGHT
BEGIN:STANDARD
TZOFFSETFROM:-0600
TZOFFSETTO:-0700
TZNAME:MST
DTSTART:20271107T080000
END:STANDARD
END:VTIMEZONE
BEGIN:VEVENT
DTSTART;TZID=America/Boise:20260106T180000
DTEND;TZID=America/Boise:20260106T193000
DTSTAMP:20260423T022608
CREATED:20251211T224954Z
LAST-MODIFIED:20251211T224954Z
UID:10001971-1767722400-1767727800@houseofwineco.com
SUMMARY:Kat's Winter Cellar Raid Wine Social
DESCRIPTION:Ever wondered what is in our Founder’s cellar? Answer: too much wine! Warm up with us as we enjoy some gems from Kat’s personal collection in this unique and fun social tasting. We’ll enjoy five (or more) wines from across the world\, socialize\, and unwind together. \nWhat better way to savor the season? \nFlight Club members have free tickets (registration required) while non-members can join for $45. \n 
URL:https://houseofwineco.com/event/kats-winter-cellar-raid-wine-social/
LOCATION:House of Wine\, 1008 W. Main Street\, Boise\, 83702\, United States
CATEGORIES:Tastings
ATTACH;FMTTYPE=image/jpeg:https://houseofwineco.com/wp-content/uploads/2023/10/pexels-florent-bertiaux-2664150-scaled.jpg
END:VEVENT
BEGIN:VEVENT
DTSTART;TZID=America/Boise:20260114T170000
DTEND;TZID=America/Boise:20260114T200000
DTSTAMP:20260423T022608
CREATED:20251211T211712Z
LAST-MODIFIED:20251211T211712Z
UID:10001965-1768410000-1768420800@houseofwineco.com
SUMMARY:No Guilt with Cece- A Free Tasting
DESCRIPTION:Kick off the new year with “No Guilt with Cece”\, a free wine tasting evening this January. We’ll explore one beautifully crafted non-alcohol wine and two low-alcohol wines that let you savor all the flavor with less of the buzz. Perfect for Dry January\, mindful drinking\, or simply slowing down without giving up your glass. Come taste\, learn\, and ease into the year with Wine Guide Cece in a relaxed\, welcoming setting.
URL:https://houseofwineco.com/event/no-guilt-with-cece-a-free-tasting/
LOCATION:House of Wine\, 1008 W. Main Street\, Boise\, 83702\, United States
CATEGORIES:Tastings
ATTACH;FMTTYPE=image/jpeg:https://houseofwineco.com/wp-content/uploads/2025/10/istockphoto-1346201606-612x612-1.jpg
END:VEVENT
BEGIN:VEVENT
DTSTART;TZID=America/Boise:20260115T110000
DTEND;TZID=America/Boise:20260115T200000
DTSTAMP:20260423T022608
CREATED:20251212T202844Z
LAST-MODIFIED:20251212T202844Z
UID:10001969-1768474800-1768507200@houseofwineco.com
SUMMARY:One Day Only: The 3rd Thursday Flight
DESCRIPTION:Get ready to mark your calendars\, wine lovers! On the third Thursday of January and February\, our Retail Manager\, Jose\, is shaking things up and pouring a one-day-only\, exclusive wine flight you won’t find anywhere else. This $35\, five wine lineup (equal to 2 full glasses) is available 11-8pm and then POOF! It’s gone forever. \nFor January 15th\, the flight theme will be “Summertime Dreaming”. Banish the winter chill! We’re pouring super light\, crisp wines—the kind that transport you straight to the beach or poolside with sunshine on your face. Escape the cold for a day and grab a taste of summer! \n 
URL:https://houseofwineco.com/event/one-day-only-the-3rd-thursday-flight-2/
LOCATION:House of Wine\, 1008 W. Main Street\, Boise\, 83702\, United States
CATEGORIES:Tastings
ATTACH;FMTTYPE=image/jpeg:https://houseofwineco.com/wp-content/uploads/2025/06/house-of-wine-pic.jpg
END:VEVENT
END:VCALENDAR